BEGIN:VCALENDAR
VERSION:2.0
PRODID:-//wp-events-plugin.com//6.4.6.4//EN
BEGIN:VEVENT
UID:2626@denieuwehommel.nl
DTSTART:20240911T100000Z
DTEND:20240911T120000Z
DTSTAMP:20240819T153253Z
URL:https://www.denieuwehommel.nl/events/taal-rekenen-en-computerles-2024-
 09-11/
SUMMARY:Taal\, rekenen en computerles
DESCRIPTION:\n\nVolwassenen die moeite hebben met leren\, kunnen gratis ter
 echt bij Prago voor praktische lessen basiseducatie van professionele doce
 nten. Bij Prago leer je (beter) lezen\, schrijven\, rekenen en digitale va
 ardigheden. Niet de lesstof\, maar de cursist staat centraal. Je leert wat
  je zelf wil en kan leren\, op je eigen niveau en in je eigen tempo. Er is
  extra begeleiding door vrijwilligers. De nadruk ligt op praktische vaardi
 gheden\, zoals een formulier invullen\, een mail sturen en rekenen met gel
 d. Onze cursisten zijn bijvoorbeeld laaggeletterden\, mensen met een licht
  verstandelijke of psychische beperking\, mensen met een leerachterstand e
 n mensen die om een andere reden niet terecht kunnen bij het reguliere ond
 erwijs. Bij Prago ontwikkelen zij meer dan alleen basisvaardigheden. Zij k
 rijgen ook meer zelfvertrouwen\, worden zelfstandiger en zelfredzamer. Ler
 en bij Prago is leuk!\n\n\nVoor meer informatie: www.prago.nl Meer weten 
 of langskomen voor een proefles? Neem contact op met Marijke Verschoor-Boe
 le: 06 42 10 77 40\, marijke.verschoor-boele@prago.nl
CATEGORIES:Creatief,Filmladder
END:VEVENT
END:VCALENDAR