BEGIN:VCALENDAR
VERSION:2.0
PRODID:-//wp-events-plugin.com//6.4.6.4//EN
BEGIN:VEVENT
UID:7081@denieuwehommel.nl
DTSTART:20260424T100000Z
DTEND:20260424T113000Z
DTSTAMP:20251230T132438Z
URL:https://www.denieuwehommel.nl/events/ixta-huiskamer-in-2026-04-24/
SUMMARY:Ixta huiskamer (IN)
DESCRIPTION:
END:VEVENT
END:VCALENDAR