BEGIN:VCALENDAR
VERSION:2.0
PRODID:-//wp-events-plugin.com//6.4.6.4//EN
BEGIN:VEVENT
UID:6964@denieuwehommel.nl
DTSTART:20260427T143000Z
DTEND:20260427T160000Z
DTSTAMP:20251230T131832Z
URL:https://www.denieuwehommel.nl/events/inloop-ouderen-swoa-2026-04-27/
SUMMARY:Inloop Ouderen SWOA
DESCRIPTION:
CATEGORIES:Creatief,Filmladder
END:VEVENT
END:VCALENDAR