BEGIN:VCALENDAR
VERSION:2.0
PRODID:-//wp-events-plugin.com//6.4.6.4//EN
BEGIN:VEVENT
UID:7133@denieuwehommel.nl
DTSTART:20260424T113000Z
DTEND:20260424T123000Z
DTSTAMP:20251230T132724Z
URL:https://www.denieuwehommel.nl/events/in-gesprek-met-het-huis-ixta-nova
 -2026-04-24/
SUMMARY:In gesprek met het huis (Ixta Nova)
DESCRIPTION:
END:VEVENT
END:VCALENDAR