BEGIN:VCALENDAR
VERSION:2.0
PRODID:-//wp-events-plugin.com//6.4.6.4//EN
BEGIN:VEVENT
UID:2401@denieuwehommel.nl
DTSTART:20240826T153000Z
DTEND:20240826T183000Z
DTSTAMP:20240619T140140Z
URL:https://www.denieuwehommel.nl/events/gitaarles-2024-08-26/
SUMMARY:Gitaar groepslessen (beginnersgroep kinderen)
DESCRIPTION:Gijs Music Academy geeft groeplessen voor beginners. 's Middags
  voor kinderen\, s avonds voor volwassenen.\n15.30-16:30 kinderen groep 1 
 (vol)\n16:30 - 18:30 kinderen groep 2 (beginners aanmelding open)\nAanmeld
 en of meer info bij gijsverstegenmuziek@gmail.com. Kosten 120\,- voor 10 l
 essen incl. lesmateriaal.\n\n&nbsp\;\n\nhttps://gijs-music-academy.nl
ATTACH;FMTTYPE=image/jpeg:https://www.denieuwehommel.nl/wp-content/uploads
 /2023/11/gijs-4.png
CATEGORIES:Creatief,Filmladder
END:VEVENT
END:VCALENDAR