BEGIN:VCALENDAR
VERSION:2.0
PRODID:-//wp-events-plugin.com//6.4.6.4//EN
BEGIN:VEVENT
UID:2147@denieuwehommel.nl
DTSTART;VALUE=DATE:20240716
DTEND;VALUE=DATE:20240717
DTSTAMP:20240603T155702Z
URL:https://www.denieuwehommel.nl/events/gesloten-i-v-m-zomervakantie-2024
 -07-16/
SUMMARY:GESLOTEN i.v.m. zomervakantie
DESCRIPTION:
END:VEVENT
END:VCALENDAR