BEGIN:VCALENDAR
VERSION:2.0
PRODID:-//wp-events-plugin.com//6.4.6.4//EN
BEGIN:VEVENT
UID:6367@denieuwehommel.nl
DTSTART:20260428T130000Z
DTEND:20260428T153000Z
DTSTAMP:20251230T125509Z
URL:https://www.denieuwehommel.nl/events/computerinloop-2026-04-28/
SUMMARY:Computerinloop
DESCRIPTION:
CATEGORIES:Creatief,Filmladder
END:VEVENT
END:VCALENDAR